BEGIN:VCALENDAR
VERSION:2.0
PRODID:-//Sainte Agnès - ECPv6.15.18//NONSGML v1.0//EN
CALSCALE:GREGORIAN
METHOD:PUBLISH
X-WR-CALNAME:Sainte Agnès
X-ORIGINAL-URL:https://www.sainteagnes.fr
X-WR-CALDESC:Évènements pour Sainte Agnès
REFRESH-INTERVAL;VALUE=DURATION:PT1H
X-Robots-Tag:noindex
X-PUBLISHED-TTL:PT1H
BEGIN:VTIMEZONE
TZID:UTC
BEGIN:STANDARD
TZOFFSETFROM:+0000
TZOFFSETTO:+0000
TZNAME:UTC
DTSTART:20230101T000000
END:STANDARD
END:VTIMEZONE
BEGIN:VEVENT
DTSTART;VALUE=DATE:20240921
DTEND;VALUE=DATE:20240922
DTSTAMP:20260422T024658
CREATED:20240419T115356Z
LAST-MODIFIED:20240419T115356Z
UID:3391-1726876800-1726963199@www.sainteagnes.fr
SUMMARY:JOURNEES DU PATRIMOINE
DESCRIPTION:Visites du fort gratuites \n 
URL:https://www.sainteagnes.fr/agenda/journees-du-patrimoine/
LOCATION:place du fort village
END:VEVENT
END:VCALENDAR