BEGIN:VCALENDAR
VERSION:2.0
PRODID:-//Sainte Agnès - ECPv6.15.18//NONSGML v1.0//EN
CALSCALE:GREGORIAN
METHOD:PUBLISH
X-ORIGINAL-URL:https://www.sainteagnes.fr
X-WR-CALDESC:Évènements pour Sainte Agnès
REFRESH-INTERVAL;VALUE=DURATION:PT1H
X-Robots-Tag:noindex
X-PUBLISHED-TTL:PT1H
BEGIN:VTIMEZONE
TZID:UTC
BEGIN:STANDARD
TZOFFSETFROM:+0000
TZOFFSETTO:+0000
TZNAME:UTC
DTSTART:20220101T000000
END:STANDARD
END:VTIMEZONE
BEGIN:VEVENT
DTSTART;TZID=UTC:20230122T103000
DTEND;TZID=UTC:20230122T143000
DTSTAMP:20260422T122230
CREATED:20230113T153126Z
LAST-MODIFIED:20230113T153126Z
UID:2871-1674383400-1674397800@www.sainteagnes.fr
SUMMARY:FETE DE LA SAINTE AGNES ET PRESENTATION DES VOEUX
DESCRIPTION:10H30 Accueil des personnalités place de l’église avec le groupe musical « Doctor NO –  New Orléans »\n11H00 Messe célébrée par le père Angelo et animée par la chorale Notre Dame des Neiges\n12H00 Procession à l’oratoire de Sainte Agnès\n12H30 Discours de Monsieur le Maire et présentation des vœux à la population\n13H00 Apéritif d’honneur offert par la municipalité
URL:https://www.sainteagnes.fr/agenda/fete-de-la-sainte-agnes-et-presentation-des-voeux/
LOCATION:Place de l’église au Village\, PLACE DE L'EGLISE\, SAINTE AGNES\, 06500
END:VEVENT
END:VCALENDAR